BEGIN:VCALENDAR
VERSION:2.0
PRODID:-// - ECPv6.15.20//NONSGML v1.0//EN
CALSCALE:GREGORIAN
METHOD:PUBLISH
X-ORIGINAL-URL:https://thebuffalohive.com
X-WR-CALDESC:Events for 
REFRESH-INTERVAL;VALUE=DURATION:PT1H
X-Robots-Tag:noindex
X-PUBLISHED-TTL:PT1H
BEGIN:VTIMEZONE
TZID:America/New_York
BEGIN:DAYLIGHT
TZOFFSETFROM:-0500
TZOFFSETTO:-0400
TZNAME:EDT
DTSTART:20250309T070000
END:DAYLIGHT
BEGIN:STANDARD
TZOFFSETFROM:-0400
TZOFFSETTO:-0500
TZNAME:EST
DTSTART:20251102T060000
END:STANDARD
BEGIN:DAYLIGHT
TZOFFSETFROM:-0500
TZOFFSETTO:-0400
TZNAME:EDT
DTSTART:20260308T070000
END:DAYLIGHT
BEGIN:STANDARD
TZOFFSETFROM:-0400
TZOFFSETTO:-0500
TZNAME:EST
DTSTART:20261101T060000
END:STANDARD
BEGIN:DAYLIGHT
TZOFFSETFROM:-0500
TZOFFSETTO:-0400
TZNAME:EDT
DTSTART:20270314T070000
END:DAYLIGHT
BEGIN:STANDARD
TZOFFSETFROM:-0400
TZOFFSETTO:-0500
TZNAME:EST
DTSTART:20271107T060000
END:STANDARD
END:VTIMEZONE
BEGIN:VEVENT
DTSTART;TZID=America/New_York:20260325T190000
DTEND;TZID=America/New_York:20260325T230000
DTSTAMP:20260424T041422
CREATED:20251029T105646Z
LAST-MODIFIED:20251029T105646Z
UID:10033315-1774465200-1774479600@thebuffalohive.com
SUMMARY:Buffalo Music: Joyce Manor w/ Militarie Gun\, Teen Mortgage\, Combat at Asbury Hall
DESCRIPTION:Wednesday\, March 25\, 2026\n \nDSP Shows presents Joyce Manor w Militarie Gun\, Teen Mortgage\, Combat live in Asbury Hall  \n6pm Doors\, 7pm Show \nTickets: General Admission Standing for $35 advance\, $40 day of show\, can be purchased at at TixR.com (online convenience fees apply) or the Asbury Box Office (M-F 11a-5p) with no fees for cash transactions\, 3% credit/debit card fee.\nAGES 16 AND OVER
URL:https://thebuffalohive.com/event/buffalo-music-joyce-manor-w-militarie-gun-teen-mortgage-combat-at-asbury-hall/
LOCATION:Asbury Hall\, 341 Delaware Ave\, Buffalo\, NY\, NY\, 14202\, United States
CATEGORIES:Music,Rock
ATTACH;FMTTYPE=image/jpeg:https://thebuffalohive.com/wp-content/uploads/2025/10/251002_Joyce-Manor-Admat-1080x1080-3-25-26-buffalo.jpg
ORGANIZER;CN="Asbury Arts Center":MAILTO:info@asburyhall.com
END:VEVENT
BEGIN:VEVENT
DTSTART;TZID=America/New_York:20260322T200000
DTEND;TZID=America/New_York:20260322T233000
DTSTAMP:20260424T041422
CREATED:20251231T202431Z
LAST-MODIFIED:20251231T202431Z
UID:10036660-1774209600-1774222200@thebuffalohive.com
SUMMARY:Buffalo Music:  Dan Kelly of Fortunate Youth at Buffalo Iron Works
DESCRIPTION:Dan Kelly\nDan Kelly\, the soulful frontman of Southern California reggae-rock band Fortunate Youth\, has been spreading good vibes and positive energy since the band’s formation in Hermosa Beach\, CA in 2009. Born in Tupelo\, Mississippi\, Dan is a self-taught guitarist and songwriter who first picked up music on an old acoustic guitar gifted to him at the age of 12.\nOver the past 15 years\, he’s toured the country more times than he can count\, performing to sold-out crowds and helping lead Fortunate Youth to amass millions of streams and a loyal following\nworldwide. Known for their energetic live shows and full-band sound—complete with horns\, bongos\, keys\, bass\, and drums—Fortunate Youth has become a cornerstone of modern American reggae.\nIn the spring of 2026\, Dan Kelly will step out on his first-ever solo U.S. tour\, returning to his roots: just him and an old acoustic guitar. Growing up in humble beginnings with two older brothers and two adopted brothers\, Dan learned early on that music was not just a passion—it was a purpose; and at times\, it can be medicine when you need it most.\nThe Anthem Tour is a journey back to where it all began. Named after his heartfelt song “Anthem\,” which honors those we’ve loved and lost along the way\, this tour is a celebration of connection\, gratitude\, and the timeless power of song. With stories\, soul\, and stripped-down acoustic performances\, Dan Kelly invites fans to experience the heart behind the music that built it all. \nAll-In Pricing Notice\nIn accordance with New York State law\, all ticketed events must display the total price of admission upfront — including all fees\, charges\, and taxes. This means the price you see listed is the final price you’ll pay. No hidden fees\, no surprises at checkout — just full transparency from the start.
URL:https://thebuffalohive.com/event/buffalo-music-dan-kelly-of-fortunate-youth/
LOCATION:Buffalo Iron Works\, 49 Illinois Street\, Buffalo\, NY\, 14203
CATEGORIES:Music,Rock
ATTACH;FMTTYPE=image/jpeg:https://thebuffalohive.com/wp-content/uploads/2025/12/Website-2026-03-22-01-uL9lhs.jpg
END:VEVENT
BEGIN:VEVENT
DTSTART;TZID=America/New_York:20260305T200000
DTEND;TZID=America/New_York:20260305T230000
DTSTAMP:20260424T041422
CREATED:20251101T143253Z
LAST-MODIFIED:20251101T143253Z
UID:10033320-1772740800-1772751600@thebuffalohive.com
SUMMARY:Buffalo Music: 'All You Need Is George': An All-Star Celebration of George Harrison
DESCRIPTION:Thursday\, March 5\, 2026 \nTwenty6 Productions presents All You Need is George: An All-Star Celebrations of George Harrison live in Asbury Hall  \n7pm Doors\, 8pm Show \nTickets: General Admission Standing for $38 advance\, $48 day of show\, Balcony Seated $63\, VIP $77 can be purchased at at TixR.com(online convenience fees apply) or the Babeville Box Office (M-F 11a-5p) with no fees for cash transactions\, 3% credit/debit card fee.
URL:https://thebuffalohive.com/event/buffalo-music-all-you-need-is-george-an-all-star-celebration-of-george-harrison/
LOCATION:Asbury Hall\, 341 Delaware Ave\, Buffalo\, NY\, NY\, 14202\, United States
CATEGORIES:Music,Rock,Tribute
ATTACH;FMTTYPE=image/jpeg:https://thebuffalohive.com/wp-content/uploads/2025/10/GEORGE_1080x1920-admat.jpg
ORGANIZER;CN="Asbury Arts Center":MAILTO:info@asburyhall.com
END:VEVENT
BEGIN:VEVENT
DTSTART;TZID=America/New_York:20260221T200000
DTEND;TZID=America/New_York:20260221T230000
DTSTAMP:20260424T041422
CREATED:20260212T010438Z
LAST-MODIFIED:20260212T010438Z
UID:10039163-1771704000-1771714800@thebuffalohive.com
SUMMARY:Buffalo Music: Slim Chance Band at Gene McCarthy's
DESCRIPTION:Grab a beer and kick back. Enjoy some great classic rock & blues (among other styles) with Slim Chance & the Can’t Hardly Playboys.
URL:https://thebuffalohive.com/event/buffalo-music-slim-chance-band-at-gene-mccarthys/
LOCATION:Gene McCarthy’s\, 73 Hamburg Street\, Buffalo\, NY\, 14204\, United States
CATEGORIES:Free,Music,Rock
ATTACH;FMTTYPE=image/jpeg:https://thebuffalohive.com/wp-content/uploads/2026/02/unnamed.jpg
END:VEVENT
END:VCALENDAR