BEGIN:VCALENDAR
VERSION:2.0
PRODID:-// - ECPv6.15.20//NONSGML v1.0//EN
CALSCALE:GREGORIAN
METHOD:PUBLISH
X-ORIGINAL-URL:https://thebuffalohive.com
X-WR-CALDESC:Events for 
REFRESH-INTERVAL;VALUE=DURATION:PT1H
X-Robots-Tag:noindex
X-PUBLISHED-TTL:PT1H
BEGIN:VTIMEZONE
TZID:America/New_York
BEGIN:DAYLIGHT
TZOFFSETFROM:-0500
TZOFFSETTO:-0400
TZNAME:EDT
DTSTART:20250309T070000
END:DAYLIGHT
BEGIN:STANDARD
TZOFFSETFROM:-0400
TZOFFSETTO:-0500
TZNAME:EST
DTSTART:20251102T060000
END:STANDARD
BEGIN:DAYLIGHT
TZOFFSETFROM:-0500
TZOFFSETTO:-0400
TZNAME:EDT
DTSTART:20260308T070000
END:DAYLIGHT
BEGIN:STANDARD
TZOFFSETFROM:-0400
TZOFFSETTO:-0500
TZNAME:EST
DTSTART:20261101T060000
END:STANDARD
BEGIN:DAYLIGHT
TZOFFSETFROM:-0500
TZOFFSETTO:-0400
TZNAME:EDT
DTSTART:20270314T070000
END:DAYLIGHT
BEGIN:STANDARD
TZOFFSETFROM:-0400
TZOFFSETTO:-0500
TZNAME:EST
DTSTART:20271107T060000
END:STANDARD
END:VTIMEZONE
BEGIN:VEVENT
DTSTART;TZID=America/New_York:20260425T190000
DTEND;TZID=America/New_York:20260425T210000
DTSTAMP:20260425T104015
CREATED:20260328T015344Z
LAST-MODIFIED:20260328T015344Z
UID:10039698-1777143600-1777150800@thebuffalohive.com
SUMMARY:WNY Music: The Strictly Hip at the Kenan Center
DESCRIPTION:The Strictly Hip is coming back to the Kenan Center’s Taylor Theatre!\n\n\nThey are the Masters of the music of The Tragically Hip\, with a fervent fanbase that is known to travel far and wide to see them. The Strictly Hip have spent years and thousands of performances respectfully and accurately recreating the music of Canada’s most popular rock band with painstaking attention to musical detail.\n\n\n\n Saturday\, April 25\, 2026\n Doors 6PM\, Music 7PM\n Taylor Theatre (433 Locust St. Lockport\, NY)
URL:https://thebuffalohive.com/event/wny-music-the-strictly-hip-at-the-kenan-center-2/
LOCATION:NY
CATEGORIES:Music
ATTACH;FMTTYPE=image/jpeg:https://thebuffalohive.com/wp-content/uploads/2026/03/8784444.jpg
END:VEVENT
BEGIN:VEVENT
DTSTART;TZID=America/New_York:20260426T100000
DTEND;TZID=America/New_York:20260426T143000
DTSTAMP:20260425T104015
CREATED:20260420T192455Z
LAST-MODIFIED:20260420T192455Z
UID:10039742-1777197600-1777213800@thebuffalohive.com
SUMMARY:Buffalo Jazz: Lew Custode & Steve Parisi Sunday Jazz Brunch at Jazzboline
DESCRIPTION:Join Lew Custode and Steve Parisi as they perform The Great American Songbook\, Jazz Classics & The New Standards in one of WNY’s most exquisite locations!
URL:https://thebuffalohive.com/event/buffalo-jazz-lew-custode-steve-parisi-sunday-jazz-brunch-at-jazzboline/2026-04-26/
LOCATION:Jazzboline\, 5010 Main Street Amherst\, New York 14226 Phone:\, Amherst\, NY\, 14226\, United States
CATEGORIES:Music
ATTACH;FMTTYPE=image/jpeg:https://thebuffalohive.com/wp-content/uploads/2026/04/IMG_1700-1.jpeg
END:VEVENT
BEGIN:VEVENT
DTSTART;TZID=America/New_York:20260427T200000
DTEND;TZID=America/New_York:20260427T230000
DTSTAMP:20260425T104015
CREATED:20260217T123439Z
LAST-MODIFIED:20260217T123439Z
UID:10039226-1777320000-1777330800@thebuffalohive.com
SUMMARY:Buffalo Music: West 22nd - The To Be or Not To Be Tour with Dipsea Flower at 9th Ward
DESCRIPTION:DSP Shows presents West 22nd-The To Be nor Not To Be Tour live in The 9th Ward with special guest Dipsea Flower  \n7pm doors\, 8pm show \nTickets: General Admission Standing $25 advance\, $30 day of show available at TixR.com (convenience fees apply) or in person at the Babeville Box Office (M-F 11a-5p- in person fee free cash sales\, 3% credit/debit card fee). Ages 12+ \n\nWest 22nd is a rock band out of Austin\, TX\, made up of friends who met at UT Austin and came together with one shared goal: to make music for the world and become the next great rock band.\nTheir sound—self-described as carousel rock—spins through genre\, emotion\, and energy without ever losing its center. It’s a term they coined to capture the controlled chaos of their music: sometimes dizzying\, sometimes grounding\, always unforgettable. \nFrom a breakout EP to a debut album that pulled in over 1.5 million streams in its first month\, West 22nd has made it clear they’re not here to blend in. Their lyrics are autobiographical\, their shows are electric\, and their ambition’s impossible to miss. They’ve already played ACL\, sold out venues in cities they’d never even been to\, and built a fanbase that screams every word right back at them. \nWest 22nd isn’t a throwback or a trend—they’re what’s next. And if you’ve ever been in a crowd when the chorus hits just right\, you already know. \nFor the latest updates\, upcoming shows\, and more\, visit their official website: west-22nd.com
URL:https://thebuffalohive.com/event/buffalo-music-west-22nd-the-to-be-or-not-to-be-tour-with-dipsea-flower-at-9th-ward/
LOCATION:The 9th Ward\, 341 Delaware Ave\, Buffalo\, NY\, 14202\, US
CATEGORIES:Concerts,Music
ATTACH;FMTTYPE=image/jpeg:https://thebuffalohive.com/wp-content/uploads/2026/02/WEST22FILM-39.1.jpg
ORGANIZER;CN="Asbury Arts Center":MAILTO:info@asburyhall.com
END:VEVENT
BEGIN:VEVENT
DTSTART;TZID=America/New_York:20260508T190000
DTEND;TZID=America/New_York:20260508T220000
DTSTAMP:20260425T104015
CREATED:20260420T191743Z
LAST-MODIFIED:20260420T191743Z
UID:10039745-1778266800-1778277600@thebuffalohive.com
SUMMARY:Local Pro Wrestling: ECW Legend Tommy Dreamer in Buffalo
DESCRIPTION:*First Time Ever: Bill Collier vs. Krule\n*ECW legend Tommy Dreamer & Channing Decker vs. Criterion & Groff with Brian DeVille\n*ESW Women’s Championship: Christina Marie (c) vs. Lady Frost\n*ESW Interstate Championship: James Sayga (c) vs. Chris Cooper\n*Grown Ass Man vs. Old Ass Man: Jack Isaac vs. “Action” Mike Jackson\n*Witch Doctor vs. Nick Ando\n*Tag Team Gauntlet Match\n*In Action: AEW’s The Blade\nMore match reveals coming soon!\nOrder tickets at ESWTIX.com
URL:https://thebuffalohive.com/event/local-pro-wrestling-ecw-legend-tommy-dreamer-in-buffalo/
LOCATION:Buffalo Riverworks\, 359 Ganson Street\, Buffalo\, NY\, 14203\, United States
CATEGORIES:Downtown,Performing Arts,Theater
ATTACH;FMTTYPE=image/jpeg:https://thebuffalohive.com/wp-content/uploads/2026/04/brawlfest2025event.jpg
END:VEVENT
BEGIN:VEVENT
DTSTART;TZID=America/New_York:20260510T100000
DTEND;TZID=America/New_York:20260510T140000
DTSTAMP:20260425T104015
CREATED:20260420T192455Z
LAST-MODIFIED:20260420T192455Z
UID:10039761-1778407200-1778421600@thebuffalohive.com
SUMMARY:Buffalo Jazz: Lew Custode & Steve Parisi Sunday Jazz Brunch at Jazzboline
DESCRIPTION:Join Lew Custode and Steve Parisi as they perform The Great American Songbook\, Jazz Classics & The New Standards in one of WNY’s most exquisite locations!
URL:https://thebuffalohive.com/event/buffalo-jazz-lew-custode-steve-parisi-sunday-jazz-brunch-at-jazzboline/2026-05-10/
LOCATION:Jazzboline\, 5010 Main Street Amherst\, New York 14226 Phone:\, Amherst\, NY\, 14226\, United States
CATEGORIES:Music
ATTACH;FMTTYPE=image/jpeg:https://thebuffalohive.com/wp-content/uploads/2026/04/IMG_1700-1.jpeg
END:VEVENT
BEGIN:VEVENT
DTSTART;TZID=America/New_York:20260524T100000
DTEND;TZID=America/New_York:20260524T143000
DTSTAMP:20260425T104015
CREATED:20260420T192455Z
LAST-MODIFIED:20260420T192455Z
UID:10039762-1779616800-1779633000@thebuffalohive.com
SUMMARY:Buffalo Jazz: Lew Custode & Steve Parisi Sunday Jazz Brunch at Jazzboline
DESCRIPTION:Join Lew Custode and Steve Parisi as they perform The Great American Songbook\, Jazz Classics & The New Standards in one of WNY’s most exquisite locations!
URL:https://thebuffalohive.com/event/buffalo-jazz-lew-custode-steve-parisi-sunday-jazz-brunch-at-jazzboline/2026-05-24/
LOCATION:Jazzboline\, 5010 Main Street Amherst\, New York 14226 Phone:\, Amherst\, NY\, 14226\, United States
CATEGORIES:Music
ATTACH;FMTTYPE=image/jpeg:https://thebuffalohive.com/wp-content/uploads/2026/04/IMG_1700-1.jpeg
END:VEVENT
BEGIN:VEVENT
DTSTART;TZID=America/New_York:20260626T200000
DTEND;TZID=America/New_York:20260626T230000
DTSTAMP:20260425T104015
CREATED:20260320T024141Z
LAST-MODIFIED:20260320T024141Z
UID:10039460-1782504000-1782514800@thebuffalohive.com
SUMMARY:Buffalo Music: of Montreal w/ CorMae at Asbury Hall
DESCRIPTION:DSP Shows presents of Montreal live in Asbury Hall with special guest CorMae \n7pm Doors\, 8pm Show \nTickets: General Admission Standing for $27 advance\, $30 day of show\, can be purchased at at TixR.com  \n\nLed by songwriter and multi-instrumentalist Kevin Barnes\, of Montreal have spent nearly three decades redefining pop\, with their kaleidoscopic blend of glam rock\, psychedelia\, funk\, and synth-driven indie rock. Emerging from the Elephant 6 Recording Company in the late ’90s\, the band quickly built a cult following for their inventive songwriting and wildly theatrical live performances. \nFrom the breakthrough brilliance of Hissing Fauna\, Are You the Destroyer?to a steady run of boundary-pushing releases\, ofMontreal have remained fearless sonic shapeshifters—equally at home crafting hook-laden anthems as they are exploring surreal\, experimental textures. The band’s prolific output has led to numerous late-night TV appearances—including The Late Show with David Lettermanand Late Night with Jimmy Fallon—and brilliant collaborations with artists such as Solange\, Janelle Monáe\, and Jon Brion. \nOn stage\, they transform concerts into immersive spectacles of color\, costume\, and cathartic energy. The band has performed across the globe\, gracing festival stages at Coachella\, Primavera\, Lollapalooza\, Vive Latino among dozens of others and headlining countless marquee venues\, while also amassing hundreds of millions of streams worldwide. \nWith a new tour on the horizon\,of Montreal continue to celebrate their legacy while pushing boldly forward—delivering a live experience that is as unpredictable and electrifying as ever
URL:https://thebuffalohive.com/event/buffalo-music-of-montreal-w-cormae-at-asbury-hall/
LOCATION:Asbury Hall at Babeville\, 342 Delaware Ave\, Buffalo\, 14202\, United States
CATEGORIES:Music
ATTACH;FMTTYPE=image/png:https://thebuffalohive.com/wp-content/uploads/2026/03/of-montreal-IG-size.png
ORGANIZER;CN="Asbury Arts Center":MAILTO:info@asburyhall.com
END:VEVENT
END:VCALENDAR