BEGIN:VCALENDAR
VERSION:2.0
PRODID:-// - ECPv6.15.20//NONSGML v1.0//EN
CALSCALE:GREGORIAN
METHOD:PUBLISH
X-ORIGINAL-URL:https://thebuffalohive.com
X-WR-CALDESC:Events for 
REFRESH-INTERVAL;VALUE=DURATION:PT1H
X-Robots-Tag:noindex
X-PUBLISHED-TTL:PT1H
BEGIN:VTIMEZONE
TZID:America/New_York
BEGIN:DAYLIGHT
TZOFFSETFROM:-0500
TZOFFSETTO:-0400
TZNAME:EDT
DTSTART:20250309T070000
END:DAYLIGHT
BEGIN:STANDARD
TZOFFSETFROM:-0400
TZOFFSETTO:-0500
TZNAME:EST
DTSTART:20251102T060000
END:STANDARD
BEGIN:DAYLIGHT
TZOFFSETFROM:-0500
TZOFFSETTO:-0400
TZNAME:EDT
DTSTART:20260308T070000
END:DAYLIGHT
BEGIN:STANDARD
TZOFFSETFROM:-0400
TZOFFSETTO:-0500
TZNAME:EST
DTSTART:20261101T060000
END:STANDARD
BEGIN:DAYLIGHT
TZOFFSETFROM:-0500
TZOFFSETTO:-0400
TZNAME:EDT
DTSTART:20270314T070000
END:DAYLIGHT
BEGIN:STANDARD
TZOFFSETFROM:-0400
TZOFFSETTO:-0500
TZNAME:EST
DTSTART:20271107T060000
END:STANDARD
END:VTIMEZONE
BEGIN:VEVENT
DTSTART;TZID=America/New_York:20260430T200000
DTEND;TZID=America/New_York:20260430T233000
DTSTAMP:20260425T223336
CREATED:20260424T020810Z
LAST-MODIFIED:20260424T020810Z
UID:10039812-1777579200-1777591800@thebuffalohive.com
SUMMARY:Buffalo Music: Kings Kaleidoscope w/ Hollyn
DESCRIPTION:Kings Kaleidoscope are bringing the Credo Spirit Tour to Buffalo Iron Works with special guest Hollyn on April 30th!
URL:https://thebuffalohive.com/event/buffalo-music-kings-kaleidoscope-w-hollyn/
LOCATION:Buffalo Iron Works\, 49 Illinois Street\, Buffalo\, NY\, 14203
CATEGORIES:Music
ATTACH;FMTTYPE=image/jpeg:https://thebuffalohive.com/wp-content/uploads/2025/07/2025-09-24-RpNlDm.jpg
END:VEVENT
END:VCALENDAR