BEGIN:VCALENDAR
VERSION:2.0
PRODID:-// - ECPv6.15.20//NONSGML v1.0//EN
CALSCALE:GREGORIAN
METHOD:PUBLISH
X-ORIGINAL-URL:https://thebuffalohive.com
X-WR-CALDESC:Events for 
REFRESH-INTERVAL;VALUE=DURATION:PT1H
X-Robots-Tag:noindex
X-PUBLISHED-TTL:PT1H
BEGIN:VTIMEZONE
TZID:America/New_York
BEGIN:DAYLIGHT
TZOFFSETFROM:-0500
TZOFFSETTO:-0400
TZNAME:EDT
DTSTART:20250309T070000
END:DAYLIGHT
BEGIN:STANDARD
TZOFFSETFROM:-0400
TZOFFSETTO:-0500
TZNAME:EST
DTSTART:20251102T060000
END:STANDARD
BEGIN:DAYLIGHT
TZOFFSETFROM:-0500
TZOFFSETTO:-0400
TZNAME:EDT
DTSTART:20260308T070000
END:DAYLIGHT
BEGIN:STANDARD
TZOFFSETFROM:-0400
TZOFFSETTO:-0500
TZNAME:EST
DTSTART:20261101T060000
END:STANDARD
BEGIN:DAYLIGHT
TZOFFSETFROM:-0500
TZOFFSETTO:-0400
TZNAME:EDT
DTSTART:20270314T070000
END:DAYLIGHT
BEGIN:STANDARD
TZOFFSETFROM:-0400
TZOFFSETTO:-0500
TZNAME:EST
DTSTART:20271107T060000
END:STANDARD
END:VTIMEZONE
BEGIN:VEVENT
DTSTART;TZID=America/New_York:20260606T190000
DTEND;TZID=America/New_York:20260606T220000
DTSTAMP:20260424T122825
CREATED:20260407T195206Z
LAST-MODIFIED:20260407T195206Z
UID:10039720-1780772400-1780783200@thebuffalohive.com
SUMMARY:Buffalo Music: Pocketship 🚀 Future-Funk Disco Dance Party at Griffon Brewery & Gastropub in Lewiston
DESCRIPTION:Pocketship  delivers a full-throttle dance-music experience rooted in funk\, disco\, and modern electronic soul. Tight arrangements\, big harmonies\, and a party-forward vibe turn every show into a shared celebration — equal parts musicianship and movement. \nAll Ages • Free Admission • 2 sets starting at 7pm
URL:https://thebuffalohive.com/event/buffalo-music-pocketship-%f0%9f%9a%80-future-funk-disco-dance-party-at-griffon-brewery-gastropub-in-lewiston/
LOCATION:Griffon Gastropub\, 115 Water St.\, Lewiston\, NY\, 14092\, United States
CATEGORIES:Free,Music
ATTACH;FMTTYPE=image/jpeg:https://thebuffalohive.com/wp-content/uploads/2026/04/2026-0606-Griffon.jpg
END:VEVENT
END:VCALENDAR