BEGIN:VCALENDAR
VERSION:2.0
PRODID:-// - ECPv6.15.20//NONSGML v1.0//EN
CALSCALE:GREGORIAN
METHOD:PUBLISH
X-ORIGINAL-URL:https://thebuffalohive.com
X-WR-CALDESC:Events for 
REFRESH-INTERVAL;VALUE=DURATION:PT1H
X-Robots-Tag:noindex
X-PUBLISHED-TTL:PT1H
BEGIN:VTIMEZONE
TZID:America/New_York
BEGIN:DAYLIGHT
TZOFFSETFROM:-0500
TZOFFSETTO:-0400
TZNAME:EDT
DTSTART:20250309T070000
END:DAYLIGHT
BEGIN:STANDARD
TZOFFSETFROM:-0400
TZOFFSETTO:-0500
TZNAME:EST
DTSTART:20251102T060000
END:STANDARD
BEGIN:DAYLIGHT
TZOFFSETFROM:-0500
TZOFFSETTO:-0400
TZNAME:EDT
DTSTART:20260308T070000
END:DAYLIGHT
BEGIN:STANDARD
TZOFFSETFROM:-0400
TZOFFSETTO:-0500
TZNAME:EST
DTSTART:20261101T060000
END:STANDARD
BEGIN:DAYLIGHT
TZOFFSETFROM:-0500
TZOFFSETTO:-0400
TZNAME:EDT
DTSTART:20270314T070000
END:DAYLIGHT
BEGIN:STANDARD
TZOFFSETFROM:-0400
TZOFFSETTO:-0500
TZNAME:EST
DTSTART:20271107T060000
END:STANDARD
END:VTIMEZONE
BEGIN:VEVENT
DTSTART;TZID=America/New_York:20260314T200000
DTEND;TZID=America/New_York:20260314T200000
DTSTAMP:20260424T123220
CREATED:20260207T231315Z
LAST-MODIFIED:20260207T231315Z
UID:10039040-1773518400-1773518400@thebuffalohive.com
SUMMARY:west ferry / Luxury Suite / Aye Karou / Michael Heubusch
DESCRIPTION:Saturday\, March 14th @ 8pm\, $12 21+\nwest ferryLuxury Suite (Rochester)Aye KarouMichael Heubusch
URL:https://thebuffalohive.com/event/west-ferry-luxury-suite-aye-karou-michael-heubusch/
LOCATION:Milkie’s on Elmwood.\, 522 Elmwood Ave\, Buffalo\, NY 14222\, USA\, Buffalo\, New York\, 14222\, US
CATEGORIES:2025-2026 Season
ATTACH;FMTTYPE=image/jpeg:https://thebuffalohive.com/wp-content/uploads/2026/02/mar14-wf-milkies.jpg
ORGANIZER;CN="Milkie's on Elmwood.":MAILTO:noreply@facebookmail.com
END:VEVENT
END:VCALENDAR