BEGIN:VCALENDAR
VERSION:2.0
PRODID:-// - ECPv6.15.20//NONSGML v1.0//EN
CALSCALE:GREGORIAN
METHOD:PUBLISH
X-ORIGINAL-URL:https://thebuffalohive.com
X-WR-CALDESC:Events for 
REFRESH-INTERVAL;VALUE=DURATION:PT1H
X-Robots-Tag:noindex
X-PUBLISHED-TTL:PT1H
BEGIN:VTIMEZONE
TZID:America/New_York
BEGIN:DAYLIGHT
TZOFFSETFROM:-0500
TZOFFSETTO:-0400
TZNAME:EDT
DTSTART:20250309T070000
END:DAYLIGHT
BEGIN:STANDARD
TZOFFSETFROM:-0400
TZOFFSETTO:-0500
TZNAME:EST
DTSTART:20251102T060000
END:STANDARD
BEGIN:DAYLIGHT
TZOFFSETFROM:-0500
TZOFFSETTO:-0400
TZNAME:EDT
DTSTART:20260308T070000
END:DAYLIGHT
BEGIN:STANDARD
TZOFFSETFROM:-0400
TZOFFSETTO:-0500
TZNAME:EST
DTSTART:20261101T060000
END:STANDARD
BEGIN:DAYLIGHT
TZOFFSETFROM:-0500
TZOFFSETTO:-0400
TZNAME:EDT
DTSTART:20270314T070000
END:DAYLIGHT
BEGIN:STANDARD
TZOFFSETFROM:-0400
TZOFFSETTO:-0500
TZNAME:EST
DTSTART:20271107T060000
END:STANDARD
END:VTIMEZONE
BEGIN:VEVENT
DTSTART;TZID=America/New_York:20260515T180000
DTEND;TZID=America/New_York:20260515T213000
DTSTAMP:20260422T085705
CREATED:20260420T195042Z
LAST-MODIFIED:20260420T195042Z
UID:10039738-1778868000-1778880600@thebuffalohive.com
SUMMARY:Buffalo Community: Homeless Alliance of WNY First-Ever Meat Raffle
DESCRIPTION:It’s a meat raffle. It’s also kind of a big deal. \nMore than 7\,000 people in Erie County experience homelessness every year. Right now\, only one in five can get the help they need. The Homeless Alliance of WNY is working to change that\, and on May 15\, 2026\, you can help. \nJoin the Homeless Alliance for its first-ever Meat Raffle at the Knights Events Center in Cheektowaga. Your entry ticket includes access to seventeen meat raffle rounds\, plus basket raffles\, wine pulls\, gift card draws\, a 50/50\, and unlimited beer\, wine\, and soft drinks. Bring your favorite snacks. Come for the fun. Stay because the stakes are real. \nPresale tickets are $15. Tables of eight are $100. Tickets at the door are $20. Can’t make it? A $5 donation at WNYhomeless.org still has impact. \nDoors open at 6 p.m. First spin at 7 p.m. \nKnights of Columbus Events Center 2735 Union Road\, Cheektowaga\, NY 14227  \nTickets and info: WNYhomeless.org
URL:https://thebuffalohive.com/event/buffalo-community-homeless-alliance-of-wny-first-ever-meat-raffle/
LOCATION:Knights of Columbus Event Cener\, 2735 Union Rd.\, Cheektowaga\, NY\, 14227\, United States
CATEGORIES:Community,Food & Drink,Fundraiser
ATTACH;FMTTYPE=image/jpeg:https://thebuffalohive.com/wp-content/uploads/2026/04/Team-HAWNY-at-a-meat-raffle.jpeg
END:VEVENT
END:VCALENDAR