BEGIN:VCALENDAR
VERSION:2.0
PRODID:-// - ECPv6.15.20//NONSGML v1.0//EN
CALSCALE:GREGORIAN
METHOD:PUBLISH
X-ORIGINAL-URL:https://thebuffalohive.com
X-WR-CALDESC:Events for 
REFRESH-INTERVAL;VALUE=DURATION:PT1H
X-Robots-Tag:noindex
X-PUBLISHED-TTL:PT1H
BEGIN:VTIMEZONE
TZID:America/New_York
BEGIN:DAYLIGHT
TZOFFSETFROM:-0500
TZOFFSETTO:-0400
TZNAME:EDT
DTSTART:20250309T070000
END:DAYLIGHT
BEGIN:STANDARD
TZOFFSETFROM:-0400
TZOFFSETTO:-0500
TZNAME:EST
DTSTART:20251102T060000
END:STANDARD
BEGIN:DAYLIGHT
TZOFFSETFROM:-0500
TZOFFSETTO:-0400
TZNAME:EDT
DTSTART:20260308T070000
END:DAYLIGHT
BEGIN:STANDARD
TZOFFSETFROM:-0400
TZOFFSETTO:-0500
TZNAME:EST
DTSTART:20261101T060000
END:STANDARD
BEGIN:DAYLIGHT
TZOFFSETFROM:-0500
TZOFFSETTO:-0400
TZNAME:EDT
DTSTART:20270314T070000
END:DAYLIGHT
BEGIN:STANDARD
TZOFFSETFROM:-0400
TZOFFSETTO:-0500
TZNAME:EST
DTSTART:20271107T060000
END:STANDARD
END:VTIMEZONE
BEGIN:VEVENT
DTSTART;TZID=America/New_York:20260221T150000
DTEND;TZID=America/New_York:20260221T220000
DTSTAMP:20260425T073919
CREATED:20260208T172255Z
LAST-MODIFIED:20260208T172255Z
UID:10039031-1771686000-1771711200@thebuffalohive.com
SUMMARY:Buffalo Music: Snow Jam Music Festival 2026
DESCRIPTION:Hey snow and music lovers! Gear up for the coolest in-person event of the winter -the 6th Annual SNOW JAM 2026! Join us for epic vibes\, awesome music\, and snowy fun you won’t forget. With performances by Johnny Hart and the Mess\, Grosh\, Letter to Elise\, Pocketship and Tsavo Highway this is the spot to be this winter! Don’t miss out on the chillest jam around – bring your crew and let’s make some frosty memories together!\n\nDoors at 3:00. Show starts at 4:00.\n\nAll ages! Kids 5-13 are $5. Kids under 5 are Free!
URL:https://thebuffalohive.com/event/buffalo-music-snow-jam-music-festival-2026/
LOCATION:Buffalo Irish Center\, 245 Abbott Rd\, Buffalo\, NY\, 14220\, US
CATEGORIES:Bars & Nightlife,Community,Concerts,Festival,Music
ATTACH;FMTTYPE=image/jpeg:https://thebuffalohive.com/wp-content/uploads/2026/02/2026-0221_sq.jpg
END:VEVENT
END:VCALENDAR